BEGIN:VCALENDAR
VERSION:2.0
PRODID:-//hacksw/handcal//NONSGML v1.0//EN
BEGIN:VEVENT
SUMMARY:FIN DE LA SAISON SPORTIVE 2026-2027
UID:b87707cb-329e-4c34-9ee3-cbbf3fe278f0
DTSTART:20270913T220000Z
DTEND:20270914T220000Z
LOCATION:Localisation   
CATEGORIES:Sportif
STATUS:
URL;VALUE=URI:https://www.districtboulelyonnaise04-05.com/evenements/2027/09/14/fin-de-la-saison-sportive-2026-2027-2437575
END:VEVENT
END:VCALENDAR
