BEGIN:VCALENDAR
VERSION:2.0
PRODID:-//hacksw/handcal//NONSGML v1.0//EN
BEGIN:VEVENT
SUMMARY:FIN DE LA SAISON SPORTIVE 2026-2026 - DEBUT DE LA SAISON SPORTIVE 2026-2027
UID:40c9397a-b427-4455-8913-ccb1279f8aa0
DTSTART:20260914T220000Z
DTEND:20260915T220000Z
LOCATION:Localisation   
CATEGORIES:Sportif
STATUS:
URL;VALUE=URI:https://www.districtboulelyonnaise04-05.com/evenements/2026/09/15/fin-de-la-saison-sportive-2026-2026-debut-de-la-saison-sportive-2026-2027-2321255
END:VEVENT
END:VCALENDAR
