BEGIN:VCALENDAR
VERSION:2.0
PRODID:-//hacksw/handcal//NONSGML v1.0//EN
BEGIN:VEVENT
SUMMARY:FINALE DES A.S. 3 ET 4 D.
UID:627315e5-4045-45cd-87a2-54e9bbb101a6
DTSTART:20260910T220000Z
DTEND:20260913T220000Z
LOCATION:Localisation   
CATEGORIES:Sportif
STATUS:
URL;VALUE=URI:https://www.districtboulelyonnaise04-05.com/evenements/2026/09/11/finale-des-as-3-et-4-d-2437573
END:VEVENT
END:VCALENDAR
