BEGIN:VCALENDAR
VERSION:2.0
PRODID:-//hacksw/handcal//NONSGML v1.0//EN
BEGIN:VEVENT
SUMMARY:Championnat du District Veterans Quadrettes 4e Division
UID:1c81f2ba-f36b-4043-850e-1f050d24e07f
DTSTART:20260519T220000Z
DTEND:20260521T220000Z
LOCATION:Localisation Boulodrome des Cesaris 05230 LA BATIE NEUVE
CATEGORIES:Sportif
STATUS:
URL;VALUE=URI:https://www.districtboulelyonnaise04-05.com/evenements/2026/05/20/championnat-du-district-veterans-quadrettes-4e-division-2253495
END:VEVENT
END:VCALENDAR
